BEGIN:VCALENDAR
VERSION:2.0
PRODID:-//wp-events-plugin.com//5.99912//EN
TZID:Europe/Berlin
X-WR-TIMEZONE:Europe/Berlin
BEGIN:VEVENT
UID:0-64@zwiefaltendorf.albverein.eu
DTSTART;TZID=Europe/Berlin:20260906T000000
DTEND;TZID=Europe/Berlin:20260906T000000
DTSTAMP:20260314T084305Z
URL:https://zwiefaltendorf.albverein.eu/events/allgaeu-panoramawanderung-m
 issen/
SUMMARY:Allgäu Panoramawanderung Missen
DESCRIPTION:    \n\nDetails folgen.\n\nWandergäste sind immer Herzlich W
 illkommen!
END:VEVENT
BEGIN:VTIMEZONE
TZID:Europe/Berlin
X-LIC-LOCATION:Europe/Berlin
BEGIN:DAYLIGHT
DTSTART:20260329T030000
TZOFFSETFROM:+0100
TZOFFSETTO:+0200
TZNAME:CEST
END:DAYLIGHT
END:VTIMEZONE
END:VCALENDAR