BEGIN:VCALENDAR
VERSION:2.0
PRODID:-//wp-events-plugin.com//5.99912//EN
TZID:Europe/Berlin
X-WR-TIMEZONE:Europe/Berlin
BEGIN:VEVENT
UID:0-59@zwiefaltendorf.albverein.eu
DTSTART;TZID=Europe/Berlin:20260501T000000
DTEND;TZID=Europe/Berlin:20260501T000000
DTSTAMP:20260418T055622Z
URL:https://zwiefaltendorf.albverein.eu/events/fahrt-ins-blaue-fahrradtour
 /
SUMMARY:Fahrt ins Blaue\, Fahrradtour
DESCRIPTION:Einladung zur Radtour\n\n„Fahrt ins Blaue“\n\nDer schwäbis
 che Albverein Zwiefaltendorf/ Emeringen lädt herzlich zur Ihrer „Fahrt 
 ins Blaue“ am Freitag\, den 01. Mai 2026 ein.\n\nTreffpunkt ist um 11:00
  Uhr an der Bushaltestelle in Zwiefaltendorf und um 11:20 Uhr am Rathaus i
 n Emeringen.\n\nFreut euch auf eine abwechslungsreiche Radtour mit giganti
 schen Ausblicken\, versteckten Orten an bekannten Plätzen und einer herrl
 ichen Ruheoase mit Überraschungseffekt – mitten in unberührter Natur.\
 n\nDie Strecke umfasst ca. 45 km mit einigen Auf- und Abstiegen\n\n(ca. 45
 0 Höhenmeter).\n\n \n\nAls Stärkung\, bevor wir die letzten wenigen Kilo
 meter antreten\, erwartet euch ein leckeres Wurstsalatbuffet.\n\nDu möcht
 est dabei sein und das Wurstsalatessen genießen?\nDann melde dich bitte v
 erbindlich bis spätestens 27. April bei Svenja an.\n\nWichtiger Hinweis:\
 nSollte das Wetter nicht mitspielen und eine Radtour nicht möglich sein\,
  treffen wir uns alternativ um 17:00 Uhr direkt zum Wurstsalatbuffet.\n\nW
 ir freuen uns auf eine erlebnisreiche und gut besuchte Radtour!\n\nFührun
 g: Svenja Löffler 0152/26926294
ATTACH;FMTTYPE=image/jpeg:https://zwiefaltendorf.albverein.eu/wp-content/u
 ploads/sites/359/2025/12/1000171957.jpg
END:VEVENT
BEGIN:VTIMEZONE
TZID:Europe/Berlin
X-LIC-LOCATION:Europe/Berlin
BEGIN:DAYLIGHT
DTSTART:20260329T030000
TZOFFSETFROM:+0100
TZOFFSETTO:+0200
TZNAME:CEST
END:DAYLIGHT
END:VTIMEZONE
END:VCALENDAR