BEGIN:VCALENDAR
VERSION:2.0
PRODID:-//wp-events-plugin.com//5.99912//EN
TZID:Europe/Berlin
X-WR-TIMEZONE:Europe/Berlin
BEGIN:VEVENT
UID:0-62@zwiefaltendorf.albverein.eu
DTSTART;TZID=Europe/Berlin:20260705T053000
DTEND;TZID=Europe/Berlin:20260705T090000
DTSTAMP:20260314T082933Z
URL:https://zwiefaltendorf.albverein.eu/events/fruehwanderung-wetterabhaen
 gig/
SUMMARY:Frühwanderung mit gemeinsamen Frühstück und Bergmesse
DESCRIPTION:Unsere diesjährige Frühwanderung werden wir wie gewohnt mit e
 inem leckeren Frühstück verbinden und mit einer BErgmesse auf dem Emerbe
 rg abschließen. Die Frühwanderung starten wir bereits um 5:15 Uhr\, die 
 Bergmesse wird um 9:00 Uhr sein. Weitere Infos folgen zu gegebener Zeit.\n
 \nWandergäste sind immer Herzlich Willkommen!
ATTACH;FMTTYPE=image/jpeg:https://zwiefaltendorf.albverein.eu/wp-content/u
 ploads/sites/359/2025/12/IMG-20230709-WA0000.jpg
END:VEVENT
BEGIN:VTIMEZONE
TZID:Europe/Berlin
X-LIC-LOCATION:Europe/Berlin
BEGIN:DAYLIGHT
DTSTART:20260329T030000
TZOFFSETFROM:+0100
TZOFFSETTO:+0200
TZNAME:CEST
END:DAYLIGHT
END:VTIMEZONE
END:VCALENDAR