BEGIN:VCALENDAR
VERSION:2.0
PRODID:-//wp-events-plugin.com//5.99912//EN
TZID:Europe/Berlin
X-WR-TIMEZONE:Europe/Berlin
BEGIN:VEVENT
UID:0-58@zwiefaltendorf.albverein.eu
DTSTART;TZID=Europe/Berlin:20260419T000000
DTEND;TZID=Europe/Berlin:20260419T000000
DTSTAMP:20260405T182914Z
URL:https://zwiefaltendorf.albverein.eu/events/rund-um-den-alten-weiher-be
 i-altshausen/
SUMMARY:Rund um den "Alten Weiher" bei Altshausen
DESCRIPTION:&nbsp\;\n\n    \n\nWir treffen uns am Sonntag\, 19. April 202
 6\, um 13:00 Uhr an der Bushaltestelle in Zwiefaltendorf. Gemeinsam fahren
  wir nach Altshausen und parken am Parkplatz hinter dem Friedhof.\n\nVon d
 ort aus wandern wir um den alten Weiher und durch das Weiherried. Wir übe
 rqueren den Mühlbach und erreichen den Erlebniswanderweg. Dieser führt u
 ns dann über den Bocksberg zurück zum alten Weiher. Vorbei am alten Weih
 er queren wir die Bundesstraße und erreichen den Schlossgarten. Nach der 
 Besichtigung des Schlossgartens und der Kirche geht es zurück zum Parkpla
 tz.\n\n Die Wanderstrecke beträgt ca. 8 km. Eine Schlusseinkehr ist gepl
 ant.\n\n Wanderfreudige Gäste sind herzlich willkommen. \n\n Wanderfüh
 rung: Rudi und Marianne Schien (Tel.: 07373/2590)
ATTACH;FMTTYPE=image/jpeg:https://zwiefaltendorf.albverein.eu/wp-content/u
 ploads/sites/359/2025/12/1000172446.jpg
END:VEVENT
BEGIN:VTIMEZONE
TZID:Europe/Berlin
X-LIC-LOCATION:Europe/Berlin
BEGIN:DAYLIGHT
DTSTART:20260329T030000
TZOFFSETFROM:+0100
TZOFFSETTO:+0200
TZNAME:CEST
END:DAYLIGHT
END:VTIMEZONE
END:VCALENDAR