BEGIN:VCALENDAR
VERSION:2.0
PRODID:-//wp-events-plugin.com//5.99912//EN
TZID:Europe/Berlin
X-WR-TIMEZONE:Europe/Berlin
BEGIN:VEVENT
UID:0-67@zwiefaltendorf.albverein.eu
DTSTART;TZID=Europe/Berlin:20261129T000000
DTEND;TZID=Europe/Berlin:20261129T000000
DTSTAMP:20260314T084457Z
URL:https://zwiefaltendorf.albverein.eu/events/weihnachtsmarkt-reutlingend
 orf/
SUMMARY:Weihnachtsmarkt Reutlingendorf
DESCRIPTION:Details folgen.\n\nWandergäste sind immer Herzlich Willkommen!
END:VEVENT
BEGIN:VTIMEZONE
TZID:Europe/Berlin
X-LIC-LOCATION:Europe/Berlin
BEGIN:STANDARD
DTSTART:20261025T020000
TZOFFSETFROM:+0200
TZOFFSETTO:+0100
TZNAME:CET
END:STANDARD
END:VTIMEZONE
END:VCALENDAR